BEGIN:VCALENDAR
VERSION:2.0
PRODID:-//FOCO ROLLER DERBY - ECPv6.15.20//NONSGML v1.0//EN
CALSCALE:GREGORIAN
METHOD:PUBLISH
X-ORIGINAL-URL:https://focorollerderby.org
X-WR-CALDESC:Events for FOCO ROLLER DERBY
REFRESH-INTERVAL;VALUE=DURATION:PT1H
X-Robots-Tag:noindex
X-PUBLISHED-TTL:PT1H
BEGIN:VTIMEZONE
TZID:America/Denver
BEGIN:DAYLIGHT
TZOFFSETFROM:-0700
TZOFFSETTO:-0600
TZNAME:MDT
DTSTART:20250309T090000
END:DAYLIGHT
BEGIN:STANDARD
TZOFFSETFROM:-0600
TZOFFSETTO:-0700
TZNAME:MST
DTSTART:20251102T080000
END:STANDARD
BEGIN:DAYLIGHT
TZOFFSETFROM:-0700
TZOFFSETTO:-0600
TZNAME:MDT
DTSTART:20260308T090000
END:DAYLIGHT
BEGIN:STANDARD
TZOFFSETFROM:-0600
TZOFFSETTO:-0700
TZNAME:MST
DTSTART:20261101T080000
END:STANDARD
BEGIN:DAYLIGHT
TZOFFSETFROM:-0700
TZOFFSETTO:-0600
TZNAME:MDT
DTSTART:20270314T090000
END:DAYLIGHT
BEGIN:STANDARD
TZOFFSETFROM:-0600
TZOFFSETTO:-0700
TZNAME:MST
DTSTART:20271107T080000
END:STANDARD
END:VTIMEZONE
BEGIN:VEVENT
DTSTART;TZID=America/Denver:20260106T203000
DTEND;TZID=America/Denver:20260106T210000
DTSTAMP:20260423T155628
CREATED:20250425T164217Z
LAST-MODIFIED:20251207T181205Z
UID:6219-1767731400-1767733200@focorollerderby.org
SUMMARY:Join Us: FoCo Roller Derby Recruitment Night!
DESCRIPTION:Ever thought about trading your sneakers for skates? Whether you’re a total beginner or a seasoned skater\, FoCo Roller Derby wants YOU! \nCome to our Recruitment Meeting and learn how you can get involved with Northern Colorado’s skater-owned and operated roller derby league. We’re looking for skaters\, referees\, non-skating officials\, skating officials\, and volunteers of all kinds—no experience necessary! \n🛼 What to Expect:\n\n\nLearn about our league \n\n\nMeet current skaters and trainers \n\n\nGet the scoop on training\, gear\, and how to get started \n\n\nAsk questions and find your place in the derby community \n\n\n📍 When & Where:\nSunday\, October 19th @ 8:30pmRollerland Skate Center \n✨ Who Can Join?\nAnyone 18+ who’s ready to learn\, move\, and be part of a supportive team. All genders welcome. We love fresh starts\, new friends\, and people who don’t mind getting a little sweaty. \n💥 Why Roller Derby?\nBecause it’s fun. Because it’s empowering. Because your future teammates can’t wait to meet you.
URL:https://focorollerderby.org/event/recruitment-meeting/
LOCATION:Rollerland Skate Center\, 324 S Link Ln\, Fort Collins\, CO\, 80524\, United States
CATEGORIES:New Recruit Night
ATTACH;FMTTYPE=image/png:https://focorollerderby.org/wp-content/uploads/2025/04/Learn-to-Play-Roller-Derby.png
ORGANIZER;CN="FoCo Roller Derby":MAILTO:info@focorollerderby.org
END:VEVENT
BEGIN:VEVENT
DTSTART;TZID=America/Denver:20260129T190000
DTEND;TZID=America/Denver:20260129T230000
DTSTAMP:20260423T155628
CREATED:20260123T023112Z
LAST-MODIFIED:20260123T023529Z
UID:6450-1769713200-1769727600@focorollerderby.org
SUMMARY:20th Anniversary Bash!
DESCRIPTION:FoCo Roller Derby Turns 20! 🛼🎉\nJoin us as we celebrate 20 years of FoCo Roller Derby with a night that’s loud\, proud\, and full of local love. We’re taking over Soundbar in Fort Collins for an anniversary bash featuring three incredible local bands—Pet Leslie\, Team Nonexistent\, and Blank Slate—who’ll be bringing the jams (pun intended) all night long. \nBetween sets\, take a stroll through our blast-from-the-past derby museum\, highlighting two decades of hits\, history\, and hard-earned points. You’ll also hear testimonials from our skaters sharing why roller derby has meant so much to them—and why this community-powered sport continues to matter. \nWant to show some extra love? We’ll have ways to give charitably and support your favorite local roller derby nonprofit\, helping keep the wheels rolling for the next generation. \nCome celebrate the grit\, the growth\, the music\, and the community that made the last 20 years possible—and the future even brighter. \n$75 VIP – Limited quantity! Includes reserved space at cocktail table\, merch\, and special drinks. \n$40 GA+ – Includes merch. \n$20 GA \nThis is an 18+ event \n			\n				Get Your Tickets Here
URL:https://focorollerderby.org/event/20th-anniversary-bash/
LOCATION:Sound Bar
CATEGORIES:Celebration
END:VEVENT
END:VCALENDAR